BEGIN:VCALENDAR
VERSION:2.0
PRODID:-//Gentle Radical - ECPv5.0.0//NONSGML v1.0//EN
CALSCALE:GREGORIAN
METHOD:PUBLISH
X-WR-CALNAME:Gentle Radical
X-ORIGINAL-URL:http://gentleradical.org
X-WR-CALDESC:Events for Gentle Radical
BEGIN:VTIMEZONE
TZID:Europe/London
BEGIN:DAYLIGHT
TZOFFSETFROM:+0000
TZOFFSETTO:+0100
TZNAME:BST
DTSTART:20190331T010000
END:DAYLIGHT
BEGIN:STANDARD
TZOFFSETFROM:+0100
TZOFFSETTO:+0000
TZNAME:GMT
DTSTART:20191027T010000
END:STANDARD
END:VTIMEZONE
BEGIN:VEVENT
DTSTART;TZID=Europe/London:20191029T180000
DTEND;TZID=Europe/London:20191029T190000
DTSTAMP:20260419T125557
CREATED:20191014T192305Z
LAST-MODIFIED:20191014T192802Z
UID:2208-1572372000-1572375600@gentleradical.org
SUMMARY:Work Under Capitalism: A Community Discussion
DESCRIPTION:\n\n\nWe’re told zero-hour contracts and in-work\npoverty are ‘normal’ – but can we imagine a better system? Join Rabab Ghazoul\,\nartist and Gentle/Radical founder\, for a talk and discussion about what\nresistance looks like within our punishing work culture.  \n\n\n\n\n\n\n\n\n\n\n
URL:http://gentleradical.org/event/work-under-capitalism-a-community-discussion/
LOCATION:Wyndham Street Centre\, 3-5 Wyndham Street\, Cardiff\, Cardiff\, CF11 6DQ
ATTACH;FMTTYPE=image/jpeg:http://gentleradical.org/wp-content/uploads/2019/10/October-Events-Facebook-Header4.jpg
END:VEVENT
END:VCALENDAR