BEGIN:VCALENDAR
VERSION:2.0
PRODID:-//Gentle Radical - ECPv5.0.0//NONSGML v1.0//EN
CALSCALE:GREGORIAN
METHOD:PUBLISH
X-WR-CALNAME:Gentle Radical
X-ORIGINAL-URL:https://gentleradical.org
X-WR-CALDESC:Events for Gentle Radical
BEGIN:VTIMEZONE
TZID:Europe/London
BEGIN:DAYLIGHT
TZOFFSETFROM:+0000
TZOFFSETTO:+0100
TZNAME:BST
DTSTART:20190331T010000
END:DAYLIGHT
BEGIN:STANDARD
TZOFFSETFROM:+0100
TZOFFSETTO:+0000
TZNAME:GMT
DTSTART:20191027T010000
END:STANDARD
END:VTIMEZONE
BEGIN:VEVENT
DTSTART;TZID=Europe/London:20191020T100000
DTEND;TZID=Europe/London:20191020T120000
DTSTAMP:20260421T082542
CREATED:20191014T184632Z
LAST-MODIFIED:20191014T184635Z
UID:2152-1571565600-1571572800@gentleradical.org
SUMMARY:Multi-Cultural Breakfast
DESCRIPTION:\n\n\n What does an Indian\, Welsh\, Somali or Palestinian breakfast taste like?As part of our AL MISH’AAL project\, join us for our first Multicultural Breakfast Club where we get to try breakfasts from around the world\, representing the rich cultures in our city – and on our doorstep!For our first event\, we invite you to sample two very different kinds of breakfasts – Palestinian and Jamaican! This will be a family friendly\, inter-generational\, inter-cultural get together at the Wyndham Street Centre\, bringing together food\, conversation and a chance to meet and make friends over the first meal of the day. Sharing breakfast together is an amazing way to meet new people\, find out about them\, share what we eat\, what we do\, what we love…  \n\n\n\n\n\n\n\n\n\n\n\n\n\n\n
URL:https://gentleradical.org/event/multi-cultural-breakfast/
LOCATION:Wyndham Street Centre\, 3-5 Wyndham Street\, Cardiff\, Cardiff\, CF11 6DQ
ATTACH;FMTTYPE=image/jpeg:https://gentleradical.org/wp-content/uploads/2019/10/al-mish-1.jpg
END:VEVENT
END:VCALENDAR